BEGIN:VCALENDAR
VERSION:2.0
PRODID:icalendar-ruby
CALSCALE:GREGORIAN
METHOD:PUBLISH
BEGIN:VEVENT
DTSTAMP:20260422T215334Z
UID:310-338923@bedfordcommunitychurch.org
DTSTART:20260531T150000Z
DTEND:20260531T161500Z
CLASS:PUBLIC
CREATED:20260421T134200
DESCRIPTION:The Life of Elisha\nThe Prophet Elisha stands as one of the mos
 t remarkable figures in the Old Testament — a man of extraordinary faith
  whose ministry was marked by scores of miracles. And his life offers a po
 werful portrait of what it looks like to walk in radical obedience and dep
 endence on God. \nJoin our Adult Sunday School Class starting this Sunday\
 , April 26 during the 11am service as we will be studying the life of Elis
 ha.  
LAST-MODIFIED:20260421T134200
LOCATION:Bedford Community Church
SUMMARY:The Life of Elisha
URL;VALUE=URI:https://www.bedfordcommunitychurch.org/events/the-life-of-eli
 sha/2026-05-31
ATTACH;FILENAME=810x450-the-life-of-ELISHA.png;FMTTYPE=image/png:https://dq
 5pwpg1q8ru0.cloudfront.net/2026/04/21/17/42/00/cfcd2306-1137-46fb-a5d2-c75
 de99e7da1/810x450-the-life-of-ELISHA.png
END:VEVENT
END:VCALENDAR
